BEGIN:VCALENDAR
VERSION:2.0
PRODID:-//musée des beaux-arts et d&#039;archéologie de Besançon - ECPv5.14.2.1//NONSGML v1.0//EN
CALSCALE:GREGORIAN
METHOD:PUBLISH
X-WR-CALNAME:musée des beaux-arts et d&#039;archéologie de Besançon
X-ORIGINAL-URL:https://www.mbaa.besancon.fr
X-WR-CALDESC:évènements pour musée des beaux-arts et d&#039;archéologie de Besançon
BEGIN:VTIMEZONE
TZID:Europe/Paris
BEGIN:DAYLIGHT
TZOFFSETFROM:+0100
TZOFFSETTO:+0200
TZNAME:CEST
DTSTART:20230326T010000
END:DAYLIGHT
BEGIN:STANDARD
TZOFFSETFROM:+0200
TZOFFSETTO:+0100
TZNAME:CET
DTSTART:20231029T010000
END:STANDARD
END:VTIMEZONE
BEGIN:VEVENT
DTSTART;TZID=Europe/Paris:20230628T143000
DTEND;TZID=Europe/Paris:20230628T153000
DTSTAMP:20260421T042329
CREATED:20230127T111230Z
LAST-MODIFIED:20230127T111230Z
UID:7347-1687962600-1687966200@www.mbaa.besancon.fr
SUMMARY:Handicap : Visite Pianissimo : les émotions
DESCRIPTION:Mercredi 28 juin à 14h30 \nVisite sur les émotions dans l’art\, adaptée aux seniors et aux visiteurs en situation de handicap moteur et aux seniors. \nEn partenariat avec la Maison des Seniors \nDurée : 1H \n— \nRéservation obligatoire pour les animations : \nMiléna Buguet \nRéférente accessibilité \nmilena.buguet@besancon.fr \n03 81 41 57 86
URL:https://www.mbaa.besancon.fr/event/handicap-visite-pianissimo-les-emotions/
CATEGORIES:handicap,visite guidée
END:VEVENT
END:VCALENDAR