BEGIN:VCALENDAR
VERSION:2.0
PRODID:-//musée des beaux-arts et d&#039;archéologie de Besançon - ECPv5.14.2.1//NONSGML v1.0//EN
CALSCALE:GREGORIAN
METHOD:PUBLISH
X-WR-CALNAME:musée des beaux-arts et d&#039;archéologie de Besançon
X-ORIGINAL-URL:https://www.mbaa.besancon.fr
X-WR-CALDESC:évènements pour musée des beaux-arts et d&#039;archéologie de Besançon
BEGIN:VTIMEZONE
TZID:Europe/Paris
BEGIN:DAYLIGHT
TZOFFSETFROM:+0100
TZOFFSETTO:+0200
TZNAME:CEST
DTSTART:20230326T010000
END:DAYLIGHT
BEGIN:STANDARD
TZOFFSETFROM:+0200
TZOFFSETTO:+0100
TZNAME:CET
DTSTART:20231029T010000
END:STANDARD
END:VTIMEZONE
BEGIN:VEVENT
DTSTART;TZID=Europe/Paris:20230915T100000
DTEND;TZID=Europe/Paris:20230917T180000
DTSTAMP:20260421T004345
CREATED:20230614T073810Z
LAST-MODIFIED:20230614T073810Z
UID:7818-1694772000-1694973600@www.mbaa.besancon.fr
SUMMARY:Festival littéraire "Livres dans la boucle"
DESCRIPTION:Les 15\, 16 et 17 septembre 2023
URL:https://www.mbaa.besancon.fr/event/festival-litteraire-livres-dans-la-boucle/
CATEGORIES:Littérature,Partenariat,tout public
END:VEVENT
END:VCALENDAR