BEGIN:VCALENDAR
VERSION:2.0
PRODID:-//musée des beaux-arts et d&#039;archéologie de Besançon - ECPv5.14.2.1//NONSGML v1.0//EN
CALSCALE:GREGORIAN
METHOD:PUBLISH
X-WR-CALNAME:musée des beaux-arts et d&#039;archéologie de Besançon
X-ORIGINAL-URL:https://www.mbaa.besancon.fr
X-WR-CALDESC:évènements pour musée des beaux-arts et d&#039;archéologie de Besançon
BEGIN:VTIMEZONE
TZID:Europe/Paris
BEGIN:DAYLIGHT
TZOFFSETFROM:+0100
TZOFFSETTO:+0200
TZNAME:CEST
DTSTART:20180325T010000
END:DAYLIGHT
BEGIN:STANDARD
TZOFFSETFROM:+0200
TZOFFSETTO:+0100
TZNAME:CET
DTSTART:20181028T010000
END:STANDARD
BEGIN:DAYLIGHT
TZOFFSETFROM:+0100
TZOFFSETTO:+0200
TZNAME:CEST
DTSTART:20190331T010000
END:DAYLIGHT
BEGIN:STANDARD
TZOFFSETFROM:+0200
TZOFFSETTO:+0100
TZNAME:CET
DTSTART:20191027T010000
END:STANDARD
END:VTIMEZONE
BEGIN:VEVENT
DTSTART;TZID=Europe/Paris:20181116T080000
DTEND;TZID=Europe/Paris:20190414T170000
DTSTAMP:20260421T110732
CREATED:20181120T122031Z
LAST-MODIFIED:20181120T122031Z
UID:3287-1542355200-1555261200@www.mbaa.besancon.fr
SUMMARY:exposition Maîtres carrés
DESCRIPTION:
URL:https://www.mbaa.besancon.fr/event/exposition-maitres-carres/
CATEGORIES:expo
ATTACH;FMTTYPE=image/jpeg:https://www.mbaa.besancon.fr/wp-content/uploads/2018/11/affiche-maitres_carres.jpg
END:VEVENT
END:VCALENDAR