BEGIN:VCALENDAR
VERSION:2.0
PRODID:-//musée des beaux-arts et d&#039;archéologie de Besançon - ECPv5.14.2.1//NONSGML v1.0//EN
CALSCALE:GREGORIAN
METHOD:PUBLISH
X-WR-CALNAME:musée des beaux-arts et d&#039;archéologie de Besançon
X-ORIGINAL-URL:https://www.mbaa.besancon.fr
X-WR-CALDESC:évènements pour musée des beaux-arts et d&#039;archéologie de Besançon
BEGIN:VTIMEZONE
TZID:Europe/Paris
BEGIN:DAYLIGHT
TZOFFSETFROM:+0100
TZOFFSETTO:+0200
TZNAME:CEST
DTSTART:20160327T010000
END:DAYLIGHT
BEGIN:STANDARD
TZOFFSETFROM:+0200
TZOFFSETTO:+0100
TZNAME:CET
DTSTART:20161030T010000
END:STANDARD
END:VTIMEZONE
BEGIN:VEVENT
DTSTART;TZID=Europe/Paris:20161207T150000
DTEND;TZID=Europe/Paris:20161207T170000
DTSTAMP:20260425T225927
CREATED:20160929T081943Z
LAST-MODIFIED:20160929T081943Z
UID:3014-1481122800-1481130000@www.mbaa.besancon.fr
SUMMARY:Conte "La Recette du succès" par la Compagnie L'ivre de contes / Médiathèque Nelson Mandela
DESCRIPTION:Les mercredis à 15h :\n> 7 décembre\n> 8 février\n> 10 mai\n> 28 juin \nDemandez le menu ! Des lisses poires gourmandes\, des histoires venues des quatre coins du monde : le conteur Abdellatif Targhaoui vous fera voyager\, en contes et en musique\, au pays où il pleut du couscous\, au pays où les hommes construisent des maisons en bonbons\, au pays où les galettes comtoises chantent des ritournelles\, au pays enfin où les contes se dégustent comme un verre de thé à la menthe. \nA partir de 3 ans\nDurée : 45 min\nGratuit \nSur inscription à la Médiathèque Nelson Mandela au 03 81 87 82 05
URL:https://www.mbaa.besancon.fr/event/conte-la-recette-du-succes-par-la-compagnie-livre-de-contes-mediatheque-nelson-mandela/
CATEGORIES:jeune public
ATTACH;FMTTYPE=image/jpeg:https://www.mbaa.besancon.fr/wp-content/uploads/2016/09/Livre-de-contes.jpg
END:VEVENT
END:VCALENDAR