BEGIN:VCALENDAR
VERSION:2.0
PRODID:-//musée des beaux-arts et d&#039;archéologie de Besançon - ECPv5.14.2.1//NONSGML v1.0//EN
CALSCALE:GREGORIAN
METHOD:PUBLISH
X-WR-CALNAME:musée des beaux-arts et d&#039;archéologie de Besançon
X-ORIGINAL-URL:https://www.mbaa.besancon.fr
X-WR-CALDESC:évènements pour musée des beaux-arts et d&#039;archéologie de Besançon
BEGIN:VTIMEZONE
TZID:Europe/Paris
BEGIN:DAYLIGHT
TZOFFSETFROM:+0100
TZOFFSETTO:+0200
TZNAME:CEST
DTSTART:20190331T010000
END:DAYLIGHT
BEGIN:STANDARD
TZOFFSETFROM:+0200
TZOFFSETTO:+0100
TZNAME:CET
DTSTART:20191027T010000
END:STANDARD
END:VTIMEZONE
BEGIN:VEVENT
DTSTART;TZID=Europe/Paris:20190214T193000
DTEND;TZID=Europe/Paris:20190214T203000
DTSTAMP:20260425T153746
CREATED:20190211T141016Z
LAST-MODIFIED:20190211T141312Z
UID:3674-1550172600-1550176200@www.mbaa.besancon.fr
SUMMARY:Conférence "Les artistes sont-ils des architectes comme les autres ?"
DESCRIPTION:A l’occasion des nocturnes\, retrouvez un cycle de trois conférences autour de l’exposition « Maîtres carrés » par Alexandre Roccuzzo\, historien de l’art\, commissaire d’exposition et critique d’art indépendant. \nDurée 1 h \nJeudi 14 février : conférence « Les artistes sont-ils des architectes comme les autres ? » \n  \nVisite guidée de l’exposition « Maîtres carrés » avant chaque conférence à 18h30 \nRendez-vous dans le Hall \nDurée 40 min \n 
URL:https://www.mbaa.besancon.fr/event/conference-les-artistes-sont-ils-des-architectes-comme-les-autres/
CATEGORIES:conférence,manifestation,public adulte
END:VEVENT
END:VCALENDAR