BEGIN:VCALENDAR
VERSION:2.0
PRODID:-//musée des beaux-arts et d&#039;archéologie de Besançon - ECPv5.14.2.1//NONSGML v1.0//EN
CALSCALE:GREGORIAN
METHOD:PUBLISH
X-WR-CALNAME:musée des beaux-arts et d&#039;archéologie de Besançon
X-ORIGINAL-URL:https://www.mbaa.besancon.fr
X-WR-CALDESC:évènements pour musée des beaux-arts et d&#039;archéologie de Besançon
BEGIN:VTIMEZONE
TZID:Europe/Paris
BEGIN:DAYLIGHT
TZOFFSETFROM:+0100
TZOFFSETTO:+0200
TZNAME:CEST
DTSTART:20160327T010000
END:DAYLIGHT
BEGIN:STANDARD
TZOFFSETFROM:+0200
TZOFFSETTO:+0100
TZNAME:CET
DTSTART:20161030T010000
END:STANDARD
END:VTIMEZONE
BEGIN:VEVENT
DTSTART;TZID=Europe/Paris:20161122T200000
DTEND;TZID=Europe/Paris:20161122T220000
DTSTAMP:20260426T045648
CREATED:20160929T081239Z
LAST-MODIFIED:20161118T141516Z
UID:3010-1479844800-1479852000@www.mbaa.besancon.fr
SUMMARY:Concert-Conférence avec l'Ensemble Tetraktys / Conservatoire à rayonnement régional
DESCRIPTION:Mardi 22 novembre à 20h \n  \nÉlèves et enseignants du Conservatoire mettent en musique une oeuvre\, commentée par une conférencière du musée.\nSur réservation auprès du CRR au 03 81 87 87 00 \n(Conservatoire à Rayonnement Régional\, Cité des Arts\, 1 passage des Arts\, Besançon)
URL:https://www.mbaa.besancon.fr/event/concert-conference-avec-lensemble-tetraktys-conservatoire-a-rayonnement-regional/
CATEGORIES:concert,conférence
ATTACH;FMTTYPE=image/jpeg:https://www.mbaa.besancon.fr/wp-content/uploads/2016/09/Tetraktys.jpg
END:VEVENT
END:VCALENDAR