BEGIN:VCALENDAR
VERSION:2.0
PRODID:-//musée des beaux-arts et d&#039;archéologie de Besançon - ECPv5.14.2.1//NONSGML v1.0//EN
CALSCALE:GREGORIAN
METHOD:PUBLISH
X-WR-CALNAME:musée des beaux-arts et d&#039;archéologie de Besançon
X-ORIGINAL-URL:https://www.mbaa.besancon.fr
X-WR-CALDESC:évènements pour musée des beaux-arts et d&#039;archéologie de Besançon
BEGIN:VTIMEZONE
TZID:Europe/Paris
BEGIN:DAYLIGHT
TZOFFSETFROM:+0100
TZOFFSETTO:+0200
TZNAME:CEST
DTSTART:20210328T010000
END:DAYLIGHT
BEGIN:STANDARD
TZOFFSETFROM:+0200
TZOFFSETTO:+0100
TZNAME:CET
DTSTART:20211031T010000
END:STANDARD
END:VTIMEZONE
BEGIN:VEVENT
DTSTART;TZID=Europe/Paris:20210623T143000
DTEND;TZID=Europe/Paris:20210623T163000
DTSTAMP:20260421T045909
CREATED:20210527T120217Z
LAST-MODIFIED:20210527T120217Z
UID:5632-1624458600-1624465800@www.mbaa.besancon.fr
SUMMARY:Ateliers et cycle de conférences Juliette Roche
DESCRIPTION:Prendre la plume : stage d’écriture avec Cathy Jurado autour de l’exposition “Juliette Roche\, l’insolite” \nDurée : 2h d’atelier \n5€ à régler sur place au musée\, sur inscription : par mail reservationsmusees@besancon.fr ou au 03 81 87 80 49. \n 
URL:https://www.mbaa.besancon.fr/event/ateliers-et-cycle-de-conferences-juliette-roche-6/
CATEGORIES:atelier,Stage,tout public
END:VEVENT
END:VCALENDAR