BEGIN:VCALENDAR
VERSION:2.0
PRODID:-//musée des beaux-arts et d&#039;archéologie de Besançon - ECPv5.14.2.1//NONSGML v1.0//EN
CALSCALE:GREGORIAN
METHOD:PUBLISH
X-WR-CALNAME:musée des beaux-arts et d&#039;archéologie de Besançon
X-ORIGINAL-URL:https://www.mbaa.besancon.fr
X-WR-CALDESC:évènements pour musée des beaux-arts et d&#039;archéologie de Besançon
BEGIN:VTIMEZONE
TZID:Europe/Paris
BEGIN:DAYLIGHT
TZOFFSETFROM:+0100
TZOFFSETTO:+0200
TZNAME:CEST
DTSTART:20220327T010000
END:DAYLIGHT
BEGIN:STANDARD
TZOFFSETFROM:+0200
TZOFFSETTO:+0100
TZNAME:CET
DTSTART:20221030T010000
END:STANDARD
END:VTIMEZONE
BEGIN:VEVENT
DTSTART;TZID=Europe/Paris:20220122T143000
DTEND;TZID=Europe/Paris:20220122T163000
DTSTAMP:20260424T123044
CREATED:20211104T111223Z
LAST-MODIFIED:20211104T111223Z
UID:5921-1642861800-1642869000@www.mbaa.besancon.fr
SUMMARY:Accessibilité / Visite créative interprétée en LSF "En toute discrétion"
DESCRIPTION:Le samedi 22 janvier à 14h30 \nVisite-atelier de l’exposition adaptée aux personnes en situation de handicap auditif\, en présence d’un interprète LSF.\nEn partenariat avec Sors les mains d’tes poches et URAPEDA \nDurée : 2h \nToutes les animations sont gratuites pour les personnes en situation de handicap et leur accompagnateur. \nSur réservation:\nMiléna Buguet / Référente accessibilité\nmilena.buguet@besancon.fr\n03 81 41 57 86
URL:https://www.mbaa.besancon.fr/event/accessibilite-visite-creative-interpretee-en-lsf-en-toute-discretion/
CATEGORIES:atelier,expo,handicap,visite guidée
END:VEVENT
END:VCALENDAR